BEGIN:VCALENDAR
VERSION:2.0
PRODID:-//Gem of the West Museum - ECPv4.6.14.1//NONSGML v1.0//EN
CALSCALE:GREGORIAN
METHOD:PUBLISH
X-WR-CALNAME:Gem of the West Museum
X-ORIGINAL-URL:https://www.gemofthewest.ca
X-WR-CALDESC:Events for Gem of the West Museum
BEGIN:VEVENT
DTSTART;TZID=UTC+0:20260502T100000
DTEND;TZID=UTC+0:20260502T150000
DTSTAMP:20260420T115813
CREATED:20260305T213351Z
LAST-MODIFIED:20260305T213351Z
UID:2924-1777716000-1777734000@www.gemofthewest.ca
SUMMARY:Season Opening & Cultural Fair
DESCRIPTION:Season Opening Event – May 2 | 10 AM–3 PM \nJoin us at the Gem of the West Museum for our Season Opening Event! We’ve got a fun-filled day planned for the whole family: \n🔨 Blacksmith Demonstration – watch sparks fly as skilled hands bring metal to life \n🎯 Games & Activities – something fun for everyone\, young and old \n🍔 Free Food – enjoy snacks and treats while you explore \n🌎 Cultural Fair – meet representatives from other Southern Alberta museums and discover new places to visit this summer \nJoin us for a day of fun\, learning\, and discovery! \nAs more details about the day’s schedule are finalized\, we’ll be updating this page — be sure to check back to see all the exciting activities and demonstrations we have planned! \n
URL:https://www.gemofthewest.ca/event/season-opening-cultural-fair/
LOCATION:1316 20th Street\, Coaldale\, Alberta
ATTACH;FMTTYPE=image/png:https://www.gemofthewest.ca/wp-content/uploads/2026/03/521b8f067933fdd99ecc946cd6c4320a.png
ORGANIZER;CN="Gem%20of%20the%20West%20Museum%20Society":MAILTO:gem@coaldale.ca
END:VEVENT
END:VCALENDAR